BEGIN:VCALENDAR
VERSION:2.0
PRODID:-//Library Market//iCal Export//EN
BEGIN:VEVENT
SUMMARY:Indoor Snowball Fight
UID:31039
DTSTAMP:20260421T130100Z
DTSTART:20260617T193000Z
DTEND:20260617T203000Z
LOCATION:Meriden Public Library, 105 Miller Street, Meriden, CT 06450, Uni
 ted States
ROOM: Meeting Room 1+2+3
DESCRIPTION:Remember when we got all those snow days and your last day of 
 school got pushed back? Relive the snow days and celebrate school FINALLY 
 being done with an indoor snowball fight!
URL:https://www.meridenlibrary.org/event/indoor-snowball-fight-31039
END:VEVENT
END:VCALENDAR
