BEGIN:VCALENDAR
VERSION:2.0
PRODID:-//Library Market//iCal Export//EN
BEGIN:VEVENT
SUMMARY:4 Humors Potions
UID:31436
DTSTAMP:20260422T023400Z
DTSTART:20260702T213000Z
DTEND:20260702T223000Z
LOCATION:Meriden Public Library, 105 Miller Street, Meriden, CT 06450, Uni
 ted States
ROOM: Teen Room
DESCRIPTION:Head to the teen room to get your humors balanced! Make a poti
 on for your blood, phlegm, yellow bile or black bile while learning more a
 bout this olden health solution.
URL:https://www.meridenlibrary.org/event/4-humors-potions-31436
END:VEVENT
END:VCALENDAR
