BEGIN:VCALENDAR
VERSION:2.0
PRODID:-//Library Market//iCal Export//EN
BEGIN:VEVENT
SUMMARY:American Job Center Meriden Vendor Expo for Job Seekers
UID:31444
DTSTAMP:20260422T040500Z
DTSTART:20260501T140000Z
DTEND:20260501T170000Z
LOCATION:Meriden Public Library, 105 Miller Street, Meriden, CT 06450, Uni
 ted States
ROOM: Meeting Room 1+2+3
DESCRIPTION:Vendor Expo for Job Seekers
URL:https://www.meridenlibrary.org/event/ajc-meriden-31444
END:VEVENT
END:VCALENDAR
