BEGIN:VCALENDAR
VERSION:2.0
PRODID:-//Library Market//iCal Export//EN
BEGIN:VEVENT
SUMMARY:Manga Club
UID:31535
DTSTAMP:20260424T124700Z
DTSTART:20260526T193000Z
DTEND:20260526T203000Z
LOCATION:Meriden Public Library, 105 Miller Street, Meriden, CT 06450, Uni
 ted States
ROOM: Teen Room
DESCRIPTION:Do you love manga? Join the manga club to talk about your favo
 rite manga, watch anime and meet like-minded folks. Attendees will get to 
 check out any new manga additions before anyone else!This is a free, drop-
 in programs for teens ages 12-18 and in grades 6-12. No registration requi
 red. 
URL:https://www.meridenlibrary.org/event/manga-club-31535
END:VEVENT
END:VCALENDAR
