BEGIN:VCALENDAR
VERSION:2.0
PRODID:-//Library Market//iCal Export//EN
BEGIN:VEVENT
SUMMARY:Salem 1692
UID:31544
DTSTAMP:20260421T183000Z
DTSTART:20260706T173000Z
DTEND:20260706T183000Z
LOCATION:Meriden Public Library, 105 Miller Street, Meriden, CT 06450, Uni
 ted States
ROOM: Teen Room
DESCRIPTION:Can you figure out who is a witch? In this card game you need 
 to rid your town of witches before they curse you!
URL:https://www.meridenlibrary.org/event/salem-1692-31544
END:VEVENT
END:VCALENDAR
