BEGIN:VCALENDAR
VERSION:2.0
PRODID:-//Library Market//iCal Export//EN
BEGIN:VEVENT
SUMMARY:Witch Bells
UID:31545
DTSTAMP:20260421T213500Z
DTSTART:20260707T173000Z
DTEND:20260707T183000Z
LOCATION:Meriden Public Library, 105 Miller Street, Meriden, CT 06450, Uni
 ted States
ROOM: Teen Room
DESCRIPTION:Create your own protective amulet to ward off bad vibes, evil 
 spirits and even curses!
URL:https://www.meridenlibrary.org/event/witch-bells-31545
END:VEVENT
END:VCALENDAR
