BEGIN:VCALENDAR
VERSION:2.0
PRODID:-//Library Market//iCal Export//EN
BEGIN:VEVENT
SUMMARY:Could You Survive? The Salem Witch Trials
UID:31546
DTSTAMP:20260421T183000Z
DTSTART:20260709T213000Z
DTEND:20260709T223000Z
LOCATION:Meriden Public Library, 105 Miller Street, Meriden, CT 06450, Uni
 ted States
ROOM: Teen Room
DESCRIPTION:Would you have made it through the trials or would you have be
 en burned at the stake?
URL:https://www.meridenlibrary.org/event/could-you-survive-salem-witch-tri
 als-31546
END:VEVENT
END:VCALENDAR
