BEGIN:VCALENDAR
VERSION:2.0
PRODID:-//Library Market//iCal Export//EN
BEGIN:VEVENT
SUMMARY:Monthly Movie: 2012
UID:31547
DTSTAMP:20260421T213500Z
DTSTART:20260711T170000Z
DTEND:20260711T183000Z
LOCATION:Meriden Public Library, 105 Miller Street, Meriden, CT 06450, Uni
 ted States
ROOM: Teen Room
DESCRIPTION:Head to the teen room to watch 2012, a apocalyptic disaster mo
 vie where catastrophic weather threatens to end the world. 
URL:https://www.meridenlibrary.org/event/monthly-movie-2012-31547
END:VEVENT
END:VCALENDAR
