BEGIN:VCALENDAR
VERSION:2.0
PRODID:-//Library Market//iCal Export//EN
BEGIN:VEVENT
SUMMARY:Did You Know? Weird Weather
UID:31548
DTSTAMP:20260421T232800Z
DTSTART:20260714T173000Z
DTEND:20260714T183000Z
LOCATION:Meriden Public Library, 105 Miller Street, Meriden, CT 06450, Uni
 ted States
ROOM: Teen Room
DESCRIPTION:Learn about weird weather from the past like the Dust Bowl, Th
 e Year without a Summer, and even animals raining from the sky!
URL:https://www.meridenlibrary.org/event/did-you-know-morbid-weather-31548
END:VEVENT
END:VCALENDAR
