BEGIN:VCALENDAR
VERSION:2.0
PRODID:-//Library Market//iCal Export//EN
BEGIN:VEVENT
SUMMARY:Wild Weather Shelter Survival
UID:31549
DTSTAMP:20260421T232800Z
DTSTART:20260715T213000Z
DTEND:20260715T223000Z
LOCATION:Meriden Public Library, 105 Miller Street, Meriden, CT 06450, Uni
 ted States
ROOM: Teen Room
DESCRIPTION:Can you make a shelter that can withstand an onslaught of wild
  weather? Tornado? Tsunami? Earthquake? Come to the teen room to find out 
 if you have what it takes!
URL:https://www.meridenlibrary.org/event/wild-weather-shelter-survival-315
 49
END:VEVENT
END:VCALENDAR
