BEGIN:VCALENDAR
VERSION:2.0
PRODID:-//Library Market//iCal Export//EN
BEGIN:VEVENT
SUMMARY:The pale Beyond
UID:31550
DTSTAMP:20260421T201700Z
DTSTART:20260717T173000Z
DTEND:20260717T183000Z
LOCATION:Meriden Public Library, 105 Miller Street, Meriden, CT 06450, Uni
 ted States
ROOM: Teen Room
DESCRIPTION:Can you survive the pale beyond? Find out in this polar explor
 ation game set in an unforgiving wasteland. 
URL:https://www.meridenlibrary.org/event/pale-beyond-31550
END:VEVENT
END:VCALENDAR
