BEGIN:VCALENDAR
VERSION:2.0
PRODID:-//Library Market//iCal Export//EN
BEGIN:VEVENT
SUMMARY:You Have Died...DIY Tombstones
UID:31551
DTSTAMP:20260422T010500Z
DTSTART:20260720T193000Z
DTEND:20260720T203000Z
LOCATION:Meriden Public Library, 105 Miller Street, Meriden, CT 06450, Uni
 ted States
ROOM: Teen Room
DESCRIPTION:What took you out as you transversed the Oregon trail? Was it 
 dysentery, starvation or even a wagon accident? Roll the die to find out a
 nd create your own tombstone.
URL:https://www.meridenlibrary.org/event/you-have-dieddiy-tombstones-31551
END:VEVENT
END:VCALENDAR
