BEGIN:VCALENDAR
VERSION:2.0
PRODID:-//Library Market//iCal Export//EN
BEGIN:VEVENT
SUMMARY:Make Your Own Hardtack
UID:31553
DTSTAMP:20260422T010500Z
DTSTART:20260721T173000Z
DTEND:20260721T190000Z
LOCATION:Meriden Public Library, 105 Miller Street, Meriden, CT 06450, Uni
 ted States
ROOM: Teen Room
DESCRIPTION:Learn how to make your own hardtack, the long lasting meal sta
 ple of the Oregon trail!
URL:https://www.meridenlibrary.org/event/make-your-own-hardtack-31553
END:VEVENT
END:VCALENDAR
