BEGIN:VCALENDAR
VERSION:2.0
PRODID:-//Library Market//iCal Export//EN
BEGIN:VEVENT
SUMMARY:Could You Survive? The Oregon Trail
UID:31554
DTSTAMP:20260421T220900Z
DTSTART:20260722T203000Z
DTEND:20260722T220000Z
LOCATION:Meriden Public Library, 105 Miller Street, Meriden, CT 06450, Uni
 ted States
ROOM: Teen Room
DESCRIPTION:Would you have survived the trek to Oregon? Find out by playin
 g the Oregon Trail game! Play the latest version on the Switch 2 or go old
  school on the computers. 
URL:https://www.meridenlibrary.org/event/could-you-survive-oregon-trail-31
 554
END:VEVENT
END:VCALENDAR
