BEGIN:VCALENDAR
VERSION:2.0
PRODID:-//Library Market//iCal Export//EN
BEGIN:VEVENT
SUMMARY:Digital Media Lab Walk-In Questions
UID:31597
DTSTAMP:20260422T020100Z
DTSTART:20260528T230000Z
DTEND:20260529T000000Z
LOCATION:Meriden Public Library, 105 Miller Street, Meriden, CT 06450, Uni
 ted States
ROOM: Digital Media Lab
DESCRIPTION:
URL:https://www.meridenlibrary.org/event/copy-digital-media-lab-walk-quest
 ions-31597
END:VEVENT
END:VCALENDAR
