BEGIN:VCALENDAR
VERSION:2.0
PRODID:-//Library Market//iCal Export//EN
BEGIN:VEVENT
SUMMARY:Hartford Healthcare National Nurses Week Community Outreach
UID:31660
DTSTAMP:20260422T055000Z
DTSTART:20260511T160000Z
DTEND:20260511T180000Z
LOCATION:Meriden Public Library, 105 Miller Street, Meriden, CT 06450, Uni
 ted States
ROOM: Meeting Room 5
DESCRIPTION:Stop by the MPL to chat and learn with the nurses of Hartford 
 Healthcare.Hand hygiene and proper handwashing techniquesOral care educati
 onGeneral wellness and preventive health tips
URL:https://www.meridenlibrary.org/event/hartford-healthcare-national-nurs
 es-week-community-outreach-31660
END:VEVENT
END:VCALENDAR
